BEGIN:VCALENDAR
VERSION:2.0
PRODID:-//eventon.com NONSGML v1.0//EN
CALSCALE:GREGORIAN
METHOD:PUBLISH
BEGIN:VEVENT
UID:69e8a6a2239c0
DTSTAMP:20260422T104450Z
DTSTART:20190323T190000Z
DTEND:20190323T235000Z
LOCATION:Fonteinkerk Robert Kochstraat 2-4\,  3817 JM Amersfoort
SUMMARY:Taizéviering
DESCRIPTION:Taizéviering Op zaterdag 23 maart 2019 wordt in de Fonteinkerk
  een Taizéviering gehouden. De viering wordt verzorgd door het Taizékoor 
 van de Fonteinkerk en duurt ongeveer een uur. Centraal staat het zingen van
  liederen die meerdere keren worden herhaald en door een piano worden onder
 steund. Daarnaast is er ruimte voor[..]\nhttps://fonteinkerk-amersfoort.nl/
 events/taize-viering/
URL:https://fonteinkerk-amersfoort.nl/events/taize-viering/
END:VEVENT
END:VCALENDAR