BEGIN:VCALENDAR
VERSION:2.0
PRODID:-//eventon.com NONSGML v1.0//EN
CALSCALE:GREGORIAN
METHOD:PUBLISH
BEGIN:VEVENT
UID:69e8ba32b3108
DTSTAMP:20260422T120818Z
DTSTART:20190405T194500Z
DTEND:20190405T235000Z
LOCATION:Fonteinkerk Robert Kochstraat 2-4\,  3817 JM Amersfoort
SUMMARY:Textielworkshop met Jackie Howard
DESCRIPTION:Textielworkshop met Jackie Howard In de maand januari exposeerd
 e textielkunstenares Jackie Howard in de Fonteinkerk. Naar aanleiding daarv
 an verzorgt zij in de avonden van woensdag 3 en vrijdag 5 april een creatie
 ve workshop. Je kunt dan zelf kennismaken met de industriële materialen wa
 ar Jackie zelf mee werkt. Tyvek bijvoorbeeld is[..]\nhttps://fonteinkerk-am
 ersfoort.nl/events/textielworkshop-met-jackie-howard/
URL:https://fonteinkerk-amersfoort.nl/events/textielworkshop-met-jackie-howard/
END:VEVENT
END:VCALENDAR