BEGIN:VCALENDAR
VERSION:2.0
PRODID:-//eventon.com NONSGML v1.0//EN
CALSCALE:GREGORIAN
METHOD:PUBLISH
BEGIN:VEVENT
UID:69e8ebd26ab5f
DTSTAMP:20260422T154002Z
DTSTART:20190426
DTEND:20190427
LOCATION:
SUMMARY:Franciscusreis naar Assisi
DESCRIPTION:Franciscusreis naar Assisi Assisi in Umbrië\,  Italië\,  is d
 e bakermat van de grote kloosterorden van de franciscanen\,  kapucijnen en 
 clarissen\,  en een bekende pelgrimsbestemming. Ook voor ons is Assisi in
  de loop van vele bezoeken een dierbare plek geworden. Marco Last uit Amer
 sfoort en Neely de Ronde uit Delft willen die franciscaanse rijkdom[..]\nht
 tps://fonteinkerk-amersfoort.nl/events/assisi-2019/
URL:https://fonteinkerk-amersfoort.nl/events/assisi-2019/
END:VEVENT
END:VCALENDAR