BEGIN:VCALENDAR
VERSION:2.0
PRODID:-//eventon.com NONSGML v1.0//EN
CALSCALE:GREGORIAN
METHOD:PUBLISH
BEGIN:VEVENT
UID:69e9028b9178e
DTSTAMP:20260422T171659Z
DTSTART:20190313T194500Z
DTEND:20190313T235000Z
LOCATION:Fonteinkerk Robert Kochstraat 2-4\,  3817 JM Amersfoort
SUMMARY:Bibliodrama "Ruth"
DESCRIPTION:Bibliodrama Ruth Ruth\,  een vrouw\,  een weduwe\,  een vreemde
 linge… “Uw volk is mijn volk\,  uw God is mijn God”\,  zegt ze tegen
  haar schoonmoeder Naomi. Ga mee op de weg van Ruth\,  wie is ze en wat wi
 l ze je vertellen. Speel mee in Bibliodrama\,  een ontmoeting met het verh
 aal van Ruth\,  jezelf[..]\nhttps://fonteinkerk-amersfoort.nl/events/biblio
 drama-ruth/
URL:https://fonteinkerk-amersfoort.nl/events/bibliodrama-ruth/
END:VEVENT
END:VCALENDAR