BEGIN:VCALENDAR
VERSION:2.0
PRODID:-//eventon.com NONSGML v1.0//EN
CALSCALE:GREGORIAN
METHOD:PUBLISH
BEGIN:VEVENT
UID:69e91af1d7cdd
DTSTAMP:20260422T190105Z
DTSTART:20190203
DTEND:20190204
LOCATION:Fonteinkerk Robert Kochstraat 2-4\,  3817 JM Amersfoort
SUMMARY:Expositie Wilma Terlouw en Davitha van de Kuilen
DESCRIPTION:Expositie Wilma Terlouw en Davitha van de Kuilen Nadenken over 
 het zintuiglijk waarneembare en het niet-waarneembare. De inspiratiebron vo
 or Wilma Terlouw\,  beeldend kunstenaar\,  is het water met de weerspiegeli
 ngen. Wilma stelt dat het boeiende van water is\,  dat het van zichzelf nau
 welijks kleur heeft en het grotendeels de kleuren en[..]\nhttps://fonteinke
 rk-amersfoort.nl/events/expositie-wilma-en-davitha/
URL:https://fonteinkerk-amersfoort.nl/events/expositie-wilma-en-davitha/
END:VEVENT
END:VCALENDAR