BEGIN:VCALENDAR
VERSION:2.0
PRODID:-//eventon.com NONSGML v1.0//EN
CALSCALE:GREGORIAN
METHOD:PUBLISH
BEGIN:VEVENT
UID:69e9edb25b00e
DTSTAMP:20260423T100018Z
DTSTART:20190130T200000Z
DTEND:20190130T220000Z
LOCATION:
SUMMARY:Leerhuis: Ester\,  een Joodse roman over de werkelijkheid II
DESCRIPTION:Leerhuis: Ester\,  een Joodse roman over de werkelijkheid In vi
 jf avonden lezen we de tekst van het hele boek en krijgen daarbij leesvrage
 n voorgelegd aan de hand van joodse commentaren door de eeuwen heen. In kle
 ine groepjes bespreken we wat we lezen en wat we daarbij bedenken over de a
 ctuele[..]\nhttps://fonteinkerk-amersfoort.nl/events/leerhuis-ester-een-joo
 dse-roman-over-de-werkelijkheid-ii/
URL:https://fonteinkerk-amersfoort.nl/events/leerhuis-ester-een-joodse-roman-over-de-werkelijkheid-ii/
END:VEVENT
END:VCALENDAR