BEGIN:VCALENDAR
VERSION:2.0
PRODID:-//eventon.com NONSGML v1.0//EN
CALSCALE:GREGORIAN
METHOD:PUBLISH
BEGIN:VEVENT
UID:69e9e93832863
DTSTAMP:20260423T094112Z
DTSTART:20190116T200000Z
DTEND:20190116T220000Z
LOCATION:
SUMMARY:Leerhuis: Ester\,  een Joodse roman over de werkelijkheid
DESCRIPTION:Leerhuis: Ester\,  een Joodse roman over de werkelijkheid In vi
 jf avonden lezen we de tekst van het hele boek en krijgen daarbij leesvrage
 n voorgelegd aan de hand van joodse commentaren door de eeuwen heen. In kle
 ine groepjes bespreken we wat we lezen en wat we daarbij bedenken over de a
 ctuele[..]\nhttps://fonteinkerk-amersfoort.nl/events/leerhuis-ester/
URL:https://fonteinkerk-amersfoort.nl/events/leerhuis-ester/
END:VEVENT
END:VCALENDAR