BEGIN:VCALENDAR
VERSION:2.0
PRODID:-//eventon.com NONSGML v1.0//EN
CALSCALE:GREGORIAN
METHOD:PUBLISH
BEGIN:VEVENT
UID:69e9eacb82e85
DTSTAMP:20260423T094755Z
DTSTART:20181209
DTEND:20181210
LOCATION:Fonteinkerk Robert Kochstraat 2-4\,  3817 JM Amersfoort
SUMMARY:Expositie God is prachtig\,  Jackie Howard
DESCRIPTION:Expositie God is Prachtig\,  Jackie Howard Hedendaagse Textielk
 unst\,   Expositie Jackie Howard Door gebruik van hightech  materialen en
  werkend met kleur en textuur kenmerkt het werk van Jackie Howard zich als 
 kleurrijk\,  vol in beweging en door een diepe gelaagdheid. Deze gelaagdhei
 d van het gebruikte materiaal weerspiegelt voor haar de gelaagdheid[..]\nht
 tps://fonteinkerk-amersfoort.nl/events/expositie-god-is-prachtig/
URL:https://fonteinkerk-amersfoort.nl/events/expositie-god-is-prachtig/
END:VEVENT
END:VCALENDAR