BEGIN:VCALENDAR
VERSION:2.0
PRODID:-//eventon.com NONSGML v1.0//EN
CALSCALE:GREGORIAN
METHOD:PUBLISH
BEGIN:VEVENT
UID:69e9eacb85837
DTSTAMP:20260423T094755Z
DTSTART:20181209T160000Z
DTEND:20181209T173000Z
LOCATION:Fonteinkerk Robert Kochstraat 2-4\,  3817 JM Amersfoort
SUMMARY:Labyrint lopen
DESCRIPTION:Labyrint lopen In de adventtijd bereiden we ons voor op het lic
 ht van kerst. We bevinden ons nog in de donkere dagen\,  het is de tijd van
  inkeer\,  maar we zijn al vol verwachting van wat komen gaat. Op de tweede
  zondag in de adventtijd vieren we dit met een[..]\nhttps://fonteinkerk-ame
 rsfoort.nl/events/labyrint-lopen/
URL:https://fonteinkerk-amersfoort.nl/events/labyrint-lopen/
END:VEVENT
END:VCALENDAR