BEGIN:VCALENDAR
VERSION:2.0
PRODID:-//eventon.com NONSGML v1.0//EN
CALSCALE:GREGORIAN
METHOD:PUBLISH
BEGIN:VEVENT
UID:69ea011ee49ee
DTSTAMP:20260423T112310Z
DTSTART:20181224T190000Z
DTEND:20181224T235000Z
LOCATION:Fonteinkerk Robert Kochstraat 2-4\,  3817 JM Amersfoort
SUMMARY:Kerstspel 2018
DESCRIPTION:Kerstspel 2018: Zelfs de engelen slapen Word je niet moe van he
 t wachten op een mooie wereld? Wat duurt het lang! En wat moeten we doen a
 ls zelfs de engelen al in slaap vallen van het wachten? In dit prachtige 
 nieuwe kerstspel spelen en zingen kinderen\,  tieners en volwassenen samen 
 wat er gebeurt[..]\nhttps://fonteinkerk-amersfoort.nl/events/kerstspel-2018
 /
URL:https://fonteinkerk-amersfoort.nl/events/kerstspel-2018/
END:VEVENT
END:VCALENDAR