BEGIN:VCALENDAR
VERSION:2.0
PRODID:-//eventon.com NONSGML v1.0//EN
CALSCALE:GREGORIAN
METHOD:PUBLISH
BEGIN:VEVENT
UID:69e8a6783c24c
DTSTAMP:20260422T104408Z
DTSTART:20181004T194500Z
DTEND:20181004T235000Z
LOCATION:Fonteinkerk Robert Kochstraat 2-4\,  3817 JM Amersfoort
SUMMARY:Bibliodrama "Noach"
DESCRIPTION:Bibliodrama Noach In dit najaar bieden wij twee avonden bibliod
 rama aan binnen het jaarthema Ontvankelijkheid. Vrij vertaald als open st
 aan voor&#8230; vandaar dat wij 4 oktober gekozen hebben voor Noach. Hij s
 tond open voor zijn opdracht tegen alle geluiden in en het is dierendag. 
 En in de adventsperiode op 22 november\,  hoe kan het ook anders\, [..]\nh
 ttps://fonteinkerk-amersfoort.nl/events/bibliodrama-noach/
URL:https://fonteinkerk-amersfoort.nl/events/bibliodrama-noach/
END:VEVENT
END:VCALENDAR