BEGIN:VCALENDAR
VERSION:2.0
PRODID:-//eventon.com NONSGML v1.0//EN
CALSCALE:GREGORIAN
METHOD:PUBLISH
BEGIN:VEVENT
UID:69e8a648eb3b8
DTSTAMP:20260422T104320Z
DTSTART:20180930T120000Z
DTEND:20180930T140000Z
LOCATION:Fonteinkerk Robert Kochstraat 2-4\,  3817 JM Amersfoort
SUMMARY:Muziek en Ontmoeting: Kamerkoor Venus
DESCRIPTION:Kamerkoor Venus in de Fonteinkerk Na een succesvol optreden in 
 januari verzorgt Kamerkoor Venus op 30 september 2018 opnieuw een concert i
 n het kader van Muziek &amp; Ontmoeting. Onder leiding van Krista Audere br
 engt Venus een bijzonder en gevarieerd programma ten gehore brengen met een
  keur aan Nederlandse componisten uit[..]\nhttps://fonteinkerk-amersfoort.n
 l/events/muziek-en-ontmoeting-kamerkoor-venus-2/
URL:https://fonteinkerk-amersfoort.nl/events/muziek-en-ontmoeting-kamerkoor-venus-2/
END:VEVENT
END:VCALENDAR