BEGIN:VCALENDAR
VERSION:2.0
PRODID:-//eventon.com NONSGML v1.0//EN
CALSCALE:GREGORIAN
METHOD:PUBLISH
BEGIN:VEVENT
UID:69e8a678dbbee
DTSTAMP:20260422T104408Z
DTSTART:20181118T120000Z
DTEND:20181118T140000Z
LOCATION:Fonteinkerk Robert Kochstraat 2-4\,  3817 JM Amersfoort
SUMMARY:Muziek en Ontmoeting: Klezmer Trio "Die Drei Dudelim"
DESCRIPTION:Klezmer Trio &#8220;Die Drei Dudelim&#8221; in de Fonteinkerk O
 p 18 november gaat u tijdens Muziek en Ontmoeting genieten van Klezmer door
  het trio Die Drei Dudelim. Die Drei Dudelim zijn graag geziene gasten in d
 e Fonteinkerk; al meerdere keren wisten zij activiteiten in de Fonteinkerk 
 op te luisteren met hun[..]\nhttps://fonteinkerk-amersfoort.nl/events/muzie
 k-en-ontmoeting-klezmer-trio-die-drei-dudelim/
URL:https://fonteinkerk-amersfoort.nl/events/muziek-en-ontmoeting-klezmer-trio-die-drei-dudelim/
END:VEVENT
END:VCALENDAR