BEGIN:VCALENDAR
VERSION:2.0
PRODID:-//eventon.com NONSGML v1.0//EN
CALSCALE:GREGORIAN
METHOD:PUBLISH
BEGIN:VEVENT
UID:69e88f5d4aa9d
DTSTAMP:20260422T090533Z
DTSTART:20181213T100000Z
DTEND:20181213T235000Z
LOCATION:
SUMMARY:Vrouwen in beweging
DESCRIPTION:De maandelijkse bijeenkomst\,  met in december de speciale Kers
 tmorgen. Aanvang 10:00 uur. Deze bijeenkomst vindt niet plaats in de Fontei
 nkerk\,  stuur een email om de locatie van deze bijeenkomst te weten te kom
 en.\nhttps://fonteinkerk-amersfoort.nl/events/vrouwen-in-beweging-4/
URL:https://fonteinkerk-amersfoort.nl/events/vrouwen-in-beweging-4/
END:VEVENT
END:VCALENDAR