BEGIN:VCALENDAR
VERSION:2.0
PRODID:-//eventon.com NONSGML v1.0//EN
CALSCALE:GREGORIAN
METHOD:PUBLISH
BEGIN:VEVENT
UID:69ea182f70227
DTSTAMP:20260423T130135Z
DTSTART:20180921T173000Z
DTEND:20180921T235000Z
LOCATION:Fonteinkerk Robert Kochstraat 2-4\,  3817 JM Amersfoort
SUMMARY:Maaltijd "samen aan tafel"
DESCRIPTION:De maandelijkse maaltijd Samen aan tafel\,  inloop vanaf 17.30 
 uur\,  aan tafel 18.00 uur Aanmelden en informatie per email bij Irma Kors.
 \nhttps://fonteinkerk-amersfoort.nl/events/maaltijd-samen-aan-tafel-2/
URL:https://fonteinkerk-amersfoort.nl/events/maaltijd-samen-aan-tafel-2/
END:VEVENT
END:VCALENDAR