BEGIN:VCALENDAR
VERSION:2.0
PRODID:-//eventon.com NONSGML v1.0//EN
CALSCALE:GREGORIAN
METHOD:PUBLISH
BEGIN:VEVENT
UID:69ea044d8f102
DTSTAMP:20260423T113645Z
DTSTART:20180928T200000Z
DTEND:20180928T235000Z
LOCATION:Fonteinkerk Robert Kochstraat 2-4\,  3817 JM Amersfoort
SUMMARY:Wees erbij café: Daniël Roos
DESCRIPTION:BEN JIJ JE ERVAN BEWUST DAT JOUW TUIN VOL BETEKENISSEN ZIT? Van
 uit het perspectief van leerkracht en tuinman\,  ga ik veel met mensen in d
 e tuin aan het werk en tegelijkertijd met elkaar in gesprek. Tuinieren gaat
  over scheppen\,  creativiteit\,  snoeien\,  (be)strijden\,  wederopstandin
 g\,  etc. Prachtige metaforen voor het dagelijks leven\, [..]\nhttps://font
 einkerk-amersfoort.nl/events/wees-erbij-cafe-daniel-roos/
URL:https://fonteinkerk-amersfoort.nl/events/wees-erbij-cafe-daniel-roos/
END:VEVENT
END:VCALENDAR