BEGIN:VCALENDAR
VERSION:2.0
PRODID:-//eventon.com NONSGML v1.0//EN
CALSCALE:GREGORIAN
METHOD:PUBLISH
BEGIN:VEVENT
UID:69e9eeb4b3d04
DTSTAMP:20260423T100436Z
DTSTART:20180914T200000Z
DTEND:20180914T235000Z
LOCATION:Fonteinkerk Robert Kochstraat 2-4\,  3817 JM Amersfoort
SUMMARY:Wees erbij café Vredesweek: Hoe hou je de lieve vrede
DESCRIPTION:Op vrijdag 14 september\,  vlak voor de aanvang van de Vredeswe
 ek\,  is er in de Fonteinkerk een Vredescafe met het motto Vrede wie durf
 t? Generaties voor vrede .Vanaf 20 uur wordt in drie rondes gesproken en u
 itgewisseld hoe we generaties voor vrede kunnen zijn en de “ lieve vrede
  met elkaar kunnen bewaren. Er[..]\nhttps://fonteinkerk-amersfoort.nl/ev
 ents/wees-erbij-cafe-vredesweek-hoe-hou-je-de-lieve-vrede/
URL:https://fonteinkerk-amersfoort.nl/events/wees-erbij-cafe-vredesweek-hoe-hou-je-de-lieve-vrede/
END:VEVENT
END:VCALENDAR