BEGIN:VCALENDAR
VERSION:2.0
PRODID:-//eventon.com NONSGML v1.0//EN
CALSCALE:GREGORIAN
METHOD:PUBLISH
BEGIN:VEVENT
UID:69e9eaeeaa02a
DTSTAMP:20260423T094830Z
DTSTART:20181014
DTEND:20181015
LOCATION:Fonteinkerk Robert Kochstraat 2-4\,  3817 JM Amersfoort
SUMMARY:Expositie fotograaf Kuyenhoven
DESCRIPTION:Expositie fotograaf Simon Kuyvenhoven De Fonteinkerk presenteer
 t een expositie rond het werk van fotograaf Simon Kuyvenhoven. De Leusdenaa
 r Simon van Kuyvenhoven wil de natuur in al haar puurheid meer op de kaart
  zetten als schoonheid en kunst. Hij werd in zijn Guatemalteekse periode g
 efascineerd door het regenwoud\,  dat vol van kleur en vormen[..]\nhttps:/
 /fonteinkerk-amersfoort.nl/events/expositie-simon-kuyvenhoven/
URL:https://fonteinkerk-amersfoort.nl/events/expositie-simon-kuyvenhoven/
END:VEVENT
END:VCALENDAR